BEGIN:VCALENDAR
VERSION:2.0
PRODID:-// - ECPv6.15.14//NONSGML v1.0//EN
CALSCALE:GREGORIAN
METHOD:PUBLISH
X-ORIGINAL-URL:https://www.angelinvestorforum.com/wp
X-WR-CALDESC:Events for 
REFRESH-INTERVAL;VALUE=DURATION:PT1H
X-Robots-Tag:noindex
X-PUBLISHED-TTL:PT1H
BEGIN:VTIMEZONE
TZID:America/New_York
BEGIN:DAYLIGHT
TZOFFSETFROM:-0500
TZOFFSETTO:-0400
TZNAME:EDT
DTSTART:20250309T070000
END:DAYLIGHT
BEGIN:STANDARD
TZOFFSETFROM:-0400
TZOFFSETTO:-0500
TZNAME:EST
DTSTART:20251102T060000
END:STANDARD
BEGIN:DAYLIGHT
TZOFFSETFROM:-0500
TZOFFSETTO:-0400
TZNAME:EDT
DTSTART:20260308T070000
END:DAYLIGHT
BEGIN:STANDARD
TZOFFSETFROM:-0400
TZOFFSETTO:-0500
TZNAME:EST
DTSTART:20261101T060000
END:STANDARD
BEGIN:DAYLIGHT
TZOFFSETFROM:-0500
TZOFFSETTO:-0400
TZNAME:EDT
DTSTART:20270314T070000
END:DAYLIGHT
BEGIN:STANDARD
TZOFFSETFROM:-0400
TZOFFSETTO:-0500
TZNAME:EST
DTSTART:20271107T060000
END:STANDARD
END:VTIMEZONE
BEGIN:VEVENT
DTSTART;TZID=America/New_York:20260408T160000
DTEND;TZID=America/New_York:20260408T193000
DTSTAMP:20260423T123354
CREATED:20260309T141331Z
LAST-MODIFIED:20260309T141331Z
UID:10000301-1775664000-1775676600@www.angelinvestorforum.com
SUMMARY:Lantern Point Labs: Cohort #2 Presented by Mayer Brown
DESCRIPTION:Join Lantern Point Labs for the Spring 2026 Cohort Kickoff\, presented by Mayer Brown. \n​A curated evening in Midtown Manhattan bringing together early-stage investors\, senior operators\, and founders for high-signal panels on venture capital trends and B2B thought leadership. The night culminates with live pitches from the Spring 2026 LPL cohort companies\, followed by cocktails and networking.
URL:https://www.angelinvestorforum.com/wp/event/lantern-point-labs-cohort-2-presented-by-mayer-brown/
LOCATION:Mayer Brown\, 1221 6th Ave\, New York\, NY\, 10020
END:VEVENT
END:VCALENDAR