BEGIN:VCALENDAR
VERSION:2.0
PRODID:-// - ECPv6.15.14//NONSGML v1.0//EN
CALSCALE:GREGORIAN
METHOD:PUBLISH
X-ORIGINAL-URL:https://www.angelinvestorforum.com/wp
X-WR-CALDESC:Events for 
REFRESH-INTERVAL;VALUE=DURATION:PT1H
X-Robots-Tag:noindex
X-PUBLISHED-TTL:PT1H
BEGIN:VTIMEZONE
TZID:America/New_York
BEGIN:DAYLIGHT
TZOFFSETFROM:-0500
TZOFFSETTO:-0400
TZNAME:EDT
DTSTART:20250309T070000
END:DAYLIGHT
BEGIN:STANDARD
TZOFFSETFROM:-0400
TZOFFSETTO:-0500
TZNAME:EST
DTSTART:20251102T060000
END:STANDARD
BEGIN:DAYLIGHT
TZOFFSETFROM:-0500
TZOFFSETTO:-0400
TZNAME:EDT
DTSTART:20260308T070000
END:DAYLIGHT
BEGIN:STANDARD
TZOFFSETFROM:-0400
TZOFFSETTO:-0500
TZNAME:EST
DTSTART:20261101T060000
END:STANDARD
BEGIN:DAYLIGHT
TZOFFSETFROM:-0500
TZOFFSETTO:-0400
TZNAME:EDT
DTSTART:20270314T070000
END:DAYLIGHT
BEGIN:STANDARD
TZOFFSETFROM:-0400
TZOFFSETTO:-0500
TZNAME:EST
DTSTART:20271107T060000
END:STANDARD
END:VTIMEZONE
BEGIN:VEVENT
DTSTART;TZID=America/New_York:20260527T080000
DTEND;TZID=America/New_York:20260528T170000
DTSTAMP:20260423T140218
CREATED:20260123T231303Z
LAST-MODIFIED:20260330T170152Z
UID:10000276-1779868800-1779987600@www.angelinvestorforum.com
SUMMARY:Yale Innovation Summit 2026
DESCRIPTION:As the Northeast’s largest innovation gathering\, the Summit convenes thousands of founders\, funders\, researchers\, policymakers\, creatives\, and operators from across the globe for two high-energy days of ideas\, investment\, and unlikely collisions. \nWith 60+ sessions across six tracks—arts\, biotech\, civic\, climate\, health\, and tech—the Summit explores the forces of innovation that are reshaping our world. From breakthrough science to public policy innovation\, from climate tech to creative entrepreneurship\, this is where cross-sector ideas move from ideas to impact. \nDynamic pitch competitions spotlight 300+ ventures competing for funding and visibility. Investors discover curated opportunities. Founders find partners. Students meet mentors. Industry leaders connect with what’s next. \nHosted by Yale Ventures\, the Summit reflects Yale’s entrepreneurial momentum—but it is designed for the broader innovation ecosystem.
URL:https://www.angelinvestorforum.com/wp/event/yale-innovation-summit-2026/
LOCATION:CT
END:VEVENT
END:VCALENDAR