BEGIN:VCALENDAR
VERSION:2.0
PRODID:-// - ECPv6.15.14//NONSGML v1.0//EN
CALSCALE:GREGORIAN
METHOD:PUBLISH
X-ORIGINAL-URL:https://www.angelinvestorforum.com/wp
X-WR-CALDESC:Events for 
REFRESH-INTERVAL;VALUE=DURATION:PT1H
X-Robots-Tag:noindex
X-PUBLISHED-TTL:PT1H
BEGIN:VTIMEZONE
TZID:America/New_York
BEGIN:DAYLIGHT
TZOFFSETFROM:-0500
TZOFFSETTO:-0400
TZNAME:EDT
DTSTART:20250309T070000
END:DAYLIGHT
BEGIN:STANDARD
TZOFFSETFROM:-0400
TZOFFSETTO:-0500
TZNAME:EST
DTSTART:20251102T060000
END:STANDARD
BEGIN:DAYLIGHT
TZOFFSETFROM:-0500
TZOFFSETTO:-0400
TZNAME:EDT
DTSTART:20260308T070000
END:DAYLIGHT
BEGIN:STANDARD
TZOFFSETFROM:-0400
TZOFFSETTO:-0500
TZNAME:EST
DTSTART:20261101T060000
END:STANDARD
BEGIN:DAYLIGHT
TZOFFSETFROM:-0500
TZOFFSETTO:-0400
TZNAME:EDT
DTSTART:20270314T070000
END:DAYLIGHT
BEGIN:STANDARD
TZOFFSETFROM:-0400
TZOFFSETTO:-0500
TZNAME:EST
DTSTART:20271107T060000
END:STANDARD
END:VTIMEZONE
BEGIN:VEVENT
DTSTART;TZID=America/New_York:20260416T163000
DTEND;TZID=America/New_York:20260416T183000
DTSTAMP:20260423T153318
CREATED:20260406T013846Z
LAST-MODIFIED:20260406T013941Z
UID:10000303-1776357000-1776364200@www.angelinvestorforum.com
SUMMARY:Collaborative CT
DESCRIPTION:Collaborative CT events bring together innovators and entrepreneurs from CEOs to students for purposeful collaboration and conversations. \nAttendees come from diverse backgrounds—academia\, industry\, startups\, venture capital\, economic development\, pharma\, biotech\, arts\, and more—united by a shared belief that in order to further an individual organization’s mission we must strengthen connections and enhance collaboration. \nAll are welcome!
URL:https://www.angelinvestorforum.com/wp/event/collaborative-ct-2-2/
LOCATION:Da Legna at Nolo\, 687 State Street\, New Haven\, CT\, 06511
END:VEVENT
BEGIN:VEVENT
DTSTART;TZID=America/New_York:20260416T163000
DTEND;TZID=America/New_York:20260416T183000
DTSTAMP:20260423T153318
CREATED:20260312T200007Z
LAST-MODIFIED:20260312T200007Z
UID:10000309-1776357000-1776364200@www.angelinvestorforum.com
SUMMARY:Collaborative CT
DESCRIPTION:Collaborative CT events bring together innovators and entrepreneurs from CEOs to students for purposeful collaboration and conversations. \nAttendees come from diverse backgrounds—academia\, industry\, startups\, venture capital\, economic development\, pharma\, biotech\, arts\, and more—united by a shared belief that in order to further an individual organization’s mission we must strengthen connections and enhance collaboration. \nAll are welcome!
URL:https://www.angelinvestorforum.com/wp/event/collaborative-ct-2/
LOCATION:101 college street\, 101 college street\, New Haven\, CT\, 06510
END:VEVENT
BEGIN:VEVENT
DTSTART;TZID=America/New_York:20260414T100000
DTEND;TZID=America/New_York:20260414T100000
DTSTAMP:20260423T153318
CREATED:20250211T141801Z
LAST-MODIFIED:20260116T203043Z
UID:10000212-1776160800-1776160800@www.angelinvestorforum.com
SUMMARY:AIF Investor Meeting
DESCRIPTION:
URL:https://www.angelinvestorforum.com/wp/event/aif-investor-meeting-22/2026-04-14/
LOCATION:Fairfield University Dolan School of Business\, 1073 N Benson Rd\, Fairfield\, CT\, 06824\, United States
ATTACH;FMTTYPE=image/png:https://www.angelinvestorforum.com/wp/wp-content/uploads/2022/07/logo.png
END:VEVENT
BEGIN:VEVENT
DTSTART;TZID=America/New_York:20260410T090000
DTEND;TZID=America/New_York:20260410T183000
DTSTAMP:20260423T153318
CREATED:20260123T230758Z
LAST-MODIFIED:20260123T230758Z
UID:10000275-1775811600-1775845800@www.angelinvestorforum.com
SUMMARY:Startup Yale 2026
DESCRIPTION:
URL:https://www.angelinvestorforum.com/wp/event/startup-yale-2026/
LOCATION:Hotel Marcel\, 500 Sargent Dr\, New Haven\, CT\, 06511
END:VEVENT
BEGIN:VEVENT
DTSTART;TZID=America/New_York:20260408T160000
DTEND;TZID=America/New_York:20260408T193000
DTSTAMP:20260423T153318
CREATED:20260309T141331Z
LAST-MODIFIED:20260309T141331Z
UID:10000301-1775664000-1775676600@www.angelinvestorforum.com
SUMMARY:Lantern Point Labs: Cohort #2 Presented by Mayer Brown
DESCRIPTION:Join Lantern Point Labs for the Spring 2026 Cohort Kickoff\, presented by Mayer Brown. \n​A curated evening in Midtown Manhattan bringing together early-stage investors\, senior operators\, and founders for high-signal panels on venture capital trends and B2B thought leadership. The night culminates with live pitches from the Spring 2026 LPL cohort companies\, followed by cocktails and networking.
URL:https://www.angelinvestorforum.com/wp/event/lantern-point-labs-cohort-2-presented-by-mayer-brown/
LOCATION:Mayer Brown\, 1221 6th Ave\, New York\, NY\, 10020
END:VEVENT
BEGIN:VEVENT
DTSTART;TZID=America/New_York:20260330T080000
DTEND;TZID=America/New_York:20260331T170000
DTSTAMP:20260423T153318
CREATED:20260210T133027Z
LAST-MODIFIED:20260210T133027Z
UID:10000297-1774857600-1774976400@www.angelinvestorforum.com
SUMMARY:InsurTech (NY) 2026 Spring Conference
DESCRIPTION:This InsurTech Conference will bring together traditional insurers\, InsurTechs\, investors\, and other solution providers to support the InsurTech community. Presentations will be divided into two content areas: (1) Property and Casualty and (2) Life and Health. \nIntegrated in the event is the largest InsurTech Competition on the East Coast. The Top Ten startups from a pool of 100+ applicants will pitch in front of investors. \nLocation: Pier 60 – Chelsea Piers\, New York
URL:https://www.angelinvestorforum.com/wp/event/insurtech-ny-2026-spring-conference/
LOCATION:Chelsea Piers\, 60 Chelsea Piers\,\, New York\, NY\, 10011
END:VEVENT
BEGIN:VEVENT
DTSTART;TZID=America/New_York:20260325T173000
DTEND;TZID=America/New_York:20260325T200000
DTSTAMP:20260423T153318
CREATED:20260126T214422Z
LAST-MODIFIED:20260126T214422Z
UID:10000279-1774459800-1774468800@www.angelinvestorforum.com
SUMMARY:Westchester: Life Sciences Networking Event
DESCRIPTION:Innovators\, investors\, inventors\, and other dedicated life sciences professionals\, mark your calendars for our monthly life sciences gatherings for 2026! At each gathering\, we will have spotlight presentations from two Westchester-based companies\, which might be alumni of WCBA or residents of BioInc@NYMC\, or completely independent life sciences companies.  Some might be startups and others more established. \nThese events bring the life sciences community together\, so we can get to know each other and the companies operating within our midst\, and spark conversations that yield opportunities to collaborate\, partner\, generate new ideas\, find new hires\, or simply build new connections with like-minded professionals within the County.
URL:https://www.angelinvestorforum.com/wp/event/westchester-life-sciences-networking-event/2026-03-25/
LOCATION:CT
END:VEVENT
BEGIN:VEVENT
DTSTART;TZID=America/New_York:20260324T170000
DTEND;TZID=America/New_York:20260324T193000
DTSTAMP:20260423T153318
CREATED:20260226T175734Z
LAST-MODIFIED:20260226T175734Z
UID:10000300-1774371600-1774380600@www.angelinvestorforum.com
SUMMARY:Raising Money with Angel Investors
DESCRIPTION:Join the Connecticut Entrepreneurs Forum for an interactive discussion with Marty Isaac\, president and deal flow chair at the Angel Investor Forum\, who’ll reveal insider secrets on how to get smart funding from angels. \nTopics covered will include: \n\nBest strategies for being referred to an angel investor\nHow to identify the right angel investor based on their motivation\, expectations\, interests\, and adding value beyond capital\nHow to navigate due diligence and legal considerations\nHow to build a successful relationship with angels post-funding
URL:https://www.angelinvestorforum.com/wp/event/raising-money-with-angel-investors/
LOCATION:Serendipity Labs\, 55 Post Road West\, 2nd floor\, Westport\, CT\, 06880
END:VEVENT
END:VCALENDAR