BEGIN:VCALENDAR
VERSION:2.0
PRODID:-// - ECPv6.15.14//NONSGML v1.0//EN
CALSCALE:GREGORIAN
METHOD:PUBLISH
X-ORIGINAL-URL:https://www.angelinvestorforum.com/wp
X-WR-CALDESC:Events for 
REFRESH-INTERVAL;VALUE=DURATION:PT1H
X-Robots-Tag:noindex
X-PUBLISHED-TTL:PT1H
BEGIN:VTIMEZONE
TZID:America/New_York
BEGIN:DAYLIGHT
TZOFFSETFROM:-0500
TZOFFSETTO:-0400
TZNAME:EDT
DTSTART:20250309T070000
END:DAYLIGHT
BEGIN:STANDARD
TZOFFSETFROM:-0400
TZOFFSETTO:-0500
TZNAME:EST
DTSTART:20251102T060000
END:STANDARD
BEGIN:DAYLIGHT
TZOFFSETFROM:-0500
TZOFFSETTO:-0400
TZNAME:EDT
DTSTART:20260308T070000
END:DAYLIGHT
BEGIN:STANDARD
TZOFFSETFROM:-0400
TZOFFSETTO:-0500
TZNAME:EST
DTSTART:20261101T060000
END:STANDARD
BEGIN:DAYLIGHT
TZOFFSETFROM:-0500
TZOFFSETTO:-0400
TZNAME:EDT
DTSTART:20270314T070000
END:DAYLIGHT
BEGIN:STANDARD
TZOFFSETFROM:-0400
TZOFFSETTO:-0500
TZNAME:EST
DTSTART:20271107T060000
END:STANDARD
END:VTIMEZONE
BEGIN:VEVENT
DTSTART;TZID=America/New_York:20260414T100000
DTEND;TZID=America/New_York:20260414T100000
DTSTAMP:20260423T140502
CREATED:20250211T141801Z
LAST-MODIFIED:20260116T203043Z
UID:10000212-1776160800-1776160800@www.angelinvestorforum.com
SUMMARY:AIF Investor Meeting
DESCRIPTION:
URL:https://www.angelinvestorforum.com/wp/event/aif-investor-meeting-22/2026-04-14/
LOCATION:Fairfield University Dolan School of Business\, 1073 N Benson Rd\, Fairfield\, CT\, 06824\, United States
ATTACH;FMTTYPE=image/png:https://www.angelinvestorforum.com/wp/wp-content/uploads/2022/07/logo.png
END:VEVENT
BEGIN:VEVENT
DTSTART;TZID=America/New_York:20260416T163000
DTEND;TZID=America/New_York:20260416T183000
DTSTAMP:20260423T140502
CREATED:20260312T200007Z
LAST-MODIFIED:20260312T200007Z
UID:10000309-1776357000-1776364200@www.angelinvestorforum.com
SUMMARY:Collaborative CT
DESCRIPTION:Collaborative CT events bring together innovators and entrepreneurs from CEOs to students for purposeful collaboration and conversations. \nAttendees come from diverse backgrounds—academia\, industry\, startups\, venture capital\, economic development\, pharma\, biotech\, arts\, and more—united by a shared belief that in order to further an individual organization’s mission we must strengthen connections and enhance collaboration. \nAll are welcome!
URL:https://www.angelinvestorforum.com/wp/event/collaborative-ct-2/
LOCATION:101 college street\, 101 college street\, New Haven\, CT\, 06510
END:VEVENT
BEGIN:VEVENT
DTSTART;TZID=America/New_York:20260416T163000
DTEND;TZID=America/New_York:20260416T183000
DTSTAMP:20260423T140502
CREATED:20260406T013846Z
LAST-MODIFIED:20260406T013941Z
UID:10000303-1776357000-1776364200@www.angelinvestorforum.com
SUMMARY:Collaborative CT
DESCRIPTION:Collaborative CT events bring together innovators and entrepreneurs from CEOs to students for purposeful collaboration and conversations. \nAttendees come from diverse backgrounds—academia\, industry\, startups\, venture capital\, economic development\, pharma\, biotech\, arts\, and more—united by a shared belief that in order to further an individual organization’s mission we must strengthen connections and enhance collaboration. \nAll are welcome!
URL:https://www.angelinvestorforum.com/wp/event/collaborative-ct-2-2/
LOCATION:Da Legna at Nolo\, 687 State Street\, New Haven\, CT\, 06511
END:VEVENT
BEGIN:VEVENT
DTSTART;TZID=America/New_York:20260418T080000
DTEND;TZID=America/New_York:20260418T170000
DTSTAMP:20260423T140502
CREATED:20260204T204525Z
LAST-MODIFIED:20260204T204525Z
UID:10000295-1776499200-1776531600@www.angelinvestorforum.com
SUMMARY:The Big Connecticut Food Event 2026
DESCRIPTION:Annual pitch competition and networking event focused on supporting CPG food & bev brands based in Connecticut that are looking to gain traction with wholesale customers and solutions providers. This is the fourth year of the event
URL:https://www.angelinvestorforum.com/wp/event/the-big-connecticut-food-event-2026/
LOCATION:Yale School of Management\, 165 Whitney Ave\, New haven\, CT\, 06511
END:VEVENT
BEGIN:VEVENT
DTSTART;TZID=America/New_York:20260421T160000
DTEND;TZID=America/New_York:20260422T170000
DTSTAMP:20260423T140502
CREATED:20260406T211128Z
LAST-MODIFIED:20260406T211128Z
UID:10000310-1776787200-1776877200@www.angelinvestorforum.com
SUMMARY:Hartford AI Day(s)
DESCRIPTION:A Connecticut Tradition\nWhat started as a small gathering of forward-thinking tech leaders in 2022 has grown into Connecticut’s premier gathering of leaders from our academic\, business and innovation community. AI Day is the place to discover how AI is evolving and continues to transform the world around us\, and build personal skills\, networks\, and community. \nEvents including skill-building workshops\, seminars\, and panel discussions will take place at: \n\nPre-Events: Tuesday\, April 21 \n\nAI + Women Luncheon: 10 Constitution Plaza (11am-2pm)\nOpening Kickoff & Reception: Infinity Hall\, 32 Front Street (4-6pm)\n\nDay-Long Learning Forum: Wednesday\, April 22 \n\nConstitution Plaza\, Hartford (9:30am-4:30pm)
URL:https://www.angelinvestorforum.com/wp/event/hartford-ai-days/
LOCATION:UConn School of Business\, Constituion Plaza\, Hartford\, CT
END:VEVENT
BEGIN:VEVENT
DTSTART;TZID=America/New_York:20260422T173000
DTEND;TZID=America/New_York:20260422T200000
DTSTAMP:20260423T140502
CREATED:20260126T214422Z
LAST-MODIFIED:20260126T214422Z
UID:10000280-1776879000-1776888000@www.angelinvestorforum.com
SUMMARY:Westchester: Life Sciences Networking Event
DESCRIPTION:Innovators\, investors\, inventors\, and other dedicated life sciences professionals\, mark your calendars for our monthly life sciences gatherings for 2026! At each gathering\, we will have spotlight presentations from two Westchester-based companies\, which might be alumni of WCBA or residents of BioInc@NYMC\, or completely independent life sciences companies.  Some might be startups and others more established. \nThese events bring the life sciences community together\, so we can get to know each other and the companies operating within our midst\, and spark conversations that yield opportunities to collaborate\, partner\, generate new ideas\, find new hires\, or simply build new connections with like-minded professionals within the County.
URL:https://www.angelinvestorforum.com/wp/event/westchester-life-sciences-networking-event/2026-04-22/
LOCATION:CT
END:VEVENT
BEGIN:VEVENT
DTSTART;TZID=America/New_York:20260423T180000
DTEND;TZID=America/New_York:20260423T203000
DTSTAMP:20260423T140502
CREATED:20260317T150934Z
LAST-MODIFIED:20260317T150934Z
UID:10000307-1776967200-1776976200@www.angelinvestorforum.com
SUMMARY:Fairfield University - Startup Showcase
DESCRIPTION:It All Starts With an Idea\nFive student teams make their business pitch live and compete for seed funding.
URL:https://www.angelinvestorforum.com/wp/event/fairfield-university-startup-showcase/
LOCATION:Quick Center for the Arts\, 1073 N Benson Rd\, Fairfield\, CT\, 06824
END:VEVENT
BEGIN:VEVENT
DTSTART;TZID=America/New_York:20260424T130000
DTEND;TZID=America/New_York:20260424T170000
DTSTAMP:20260423T140502
CREATED:20260212T023447Z
LAST-MODIFIED:20260212T023447Z
UID:10000298-1777035600-1777050000@www.angelinvestorforum.com
SUMMARY:Connecticut Collegiate Business Plan Competition - 2026
DESCRIPTION:Finals live in person\, 1:00 pm Friday\, April 24 in New Haven. \nGateway Community College\, room S-211. \nPark free in school garage on Crown Street. If full\, park in Temple street garage\, just past college on same side of street. \nELIGIBILITY. Companies must be student-owned and conceived. \nPresenter must be (or have been) a student at a Connecticut college or university during the current academic year.
URL:https://www.angelinvestorforum.com/wp/event/connecticut-collegiate-business-plan-competition-2026/
LOCATION:Gateway Community College\, 20 Church Street\, New Haven\, CT\, 06510
END:VEVENT
BEGIN:VEVENT
DTSTART;TZID=America/New_York:20260430T173000
DTEND;TZID=America/New_York:20260430T193000
DTSTAMP:20260423T140502
CREATED:20260419T184054Z
LAST-MODIFIED:20260419T184054Z
UID:10000313-1777570200-1777577400@www.angelinvestorforum.com
SUMMARY:AI & The CT Legal Landscape (w/ The AI Collective)
DESCRIPTION:​As AI becomes embedded in how we build\, operate\, and scale\, the legal landscape is catching up! \nThis event brings together the curious\, founders\, operators\, educators\, and legal minds to close that gap and understand risks/costs. \n5:30 – 6pm – Arrival & Networking\n6 – 7pm – Speaking\, Q&A\n7 – 7:30pm – Networking & Departure \nWhat We’ll Cover \n\n\n​AI Risks & Operational Failure Modes — Where even experienced practitioners get caught off guard\, and what to do about it \n\n\n​Connecticut’s AI Regulatory Landscape — What the AG confirmation and July 1st deadline actually mean for your organization \n\n\n​Legal Liability in AI-Powered Products — Who’s responsible when the model gets it wrong \n\n\n​Compliance for Startups & Institutions — Practical frameworks for teams that aren’t lawyers but need to act like they’ve talked to one \n\n\n​Building Defensible AI Systems — Documentation\, disclosures\, and the operational habits that protect you \nEnter ClimateHaven Downtown at the Red Robot Sign on Chapel Street!
URL:https://www.angelinvestorforum.com/wp/event/ai-the-ct-legal-landscape-w-the-ai-collective/
LOCATION:CT
END:VEVENT
BEGIN:VEVENT
DTSTART;TZID=America/New_York:20260506T173000
DTEND;TZID=America/New_York:20260506T203000
DTSTAMP:20260423T140502
CREATED:20260422T201705Z
LAST-MODIFIED:20260422T201705Z
UID:10000314-1778088600-1778099400@www.angelinvestorforum.com
SUMMARY:CT SBDC AI Pitch Competition
DESCRIPTION:CTSBDC is hosting an AI Pitch Competition. We’re looking for practical\, high-impact ideas for how\, with access to expert resources\, AI can take businesses to the next level. Join us to watch as Connecticut’s small business owners\, and aspiring innovators bring their ideas to the stage\, and compete to win non-cash prizes that can take their ideas to the next level.
URL:https://www.angelinvestorforum.com/wp/event/ct-sbdc-ai-pitch-competition/
LOCATION:Westport Country Playhouse\, 25 Powers Court\, Westport\, CT\, 06880
END:VEVENT
BEGIN:VEVENT
DTSTART;TZID=America/New_York:20260512T100000
DTEND;TZID=America/New_York:20260512T100000
DTSTAMP:20260423T140502
CREATED:20250211T141801Z
LAST-MODIFIED:20260116T203043Z
UID:10000213-1778580000-1778580000@www.angelinvestorforum.com
SUMMARY:AIF Investor Meeting
DESCRIPTION:
URL:https://www.angelinvestorforum.com/wp/event/aif-investor-meeting-22/2026-05-12/
LOCATION:Fairfield University Dolan School of Business\, 1073 N Benson Rd\, Fairfield\, CT\, 06824\, United States
ATTACH;FMTTYPE=image/png:https://www.angelinvestorforum.com/wp/wp-content/uploads/2022/07/logo.png
END:VEVENT
BEGIN:VEVENT
DTSTART;TZID=America/New_York:20260527T080000
DTEND;TZID=America/New_York:20260528T170000
DTSTAMP:20260423T140502
CREATED:20260123T231303Z
LAST-MODIFIED:20260330T170152Z
UID:10000276-1779868800-1779987600@www.angelinvestorforum.com
SUMMARY:Yale Innovation Summit 2026
DESCRIPTION:As the Northeast’s largest innovation gathering\, the Summit convenes thousands of founders\, funders\, researchers\, policymakers\, creatives\, and operators from across the globe for two high-energy days of ideas\, investment\, and unlikely collisions. \nWith 60+ sessions across six tracks—arts\, biotech\, civic\, climate\, health\, and tech—the Summit explores the forces of innovation that are reshaping our world. From breakthrough science to public policy innovation\, from climate tech to creative entrepreneurship\, this is where cross-sector ideas move from ideas to impact. \nDynamic pitch competitions spotlight 300+ ventures competing for funding and visibility. Investors discover curated opportunities. Founders find partners. Students meet mentors. Industry leaders connect with what’s next. \nHosted by Yale Ventures\, the Summit reflects Yale’s entrepreneurial momentum—but it is designed for the broader innovation ecosystem.
URL:https://www.angelinvestorforum.com/wp/event/yale-innovation-summit-2026/
LOCATION:CT
END:VEVENT
BEGIN:VEVENT
DTSTART;TZID=America/New_York:20260527T173000
DTEND;TZID=America/New_York:20260527T200000
DTSTAMP:20260423T140502
CREATED:20260126T214422Z
LAST-MODIFIED:20260126T214422Z
UID:10000281-1779903000-1779912000@www.angelinvestorforum.com
SUMMARY:Westchester: Life Sciences Networking Event
DESCRIPTION:Innovators\, investors\, inventors\, and other dedicated life sciences professionals\, mark your calendars for our monthly life sciences gatherings for 2026! At each gathering\, we will have spotlight presentations from two Westchester-based companies\, which might be alumni of WCBA or residents of BioInc@NYMC\, or completely independent life sciences companies.  Some might be startups and others more established. \nThese events bring the life sciences community together\, so we can get to know each other and the companies operating within our midst\, and spark conversations that yield opportunities to collaborate\, partner\, generate new ideas\, find new hires\, or simply build new connections with like-minded professionals within the County.
URL:https://www.angelinvestorforum.com/wp/event/westchester-life-sciences-networking-event/2026-05-27/
LOCATION:CT
END:VEVENT
BEGIN:VEVENT
DTSTART;TZID=America/New_York:20260602T163000
DTEND;TZID=America/New_York:20260602T183000
DTSTAMP:20260423T140502
CREATED:20260312T200134Z
LAST-MODIFIED:20260331T210403Z
UID:10000304-1780417800-1780425000@www.angelinvestorforum.com
SUMMARY:Collaborative CT
DESCRIPTION:Collaborative CT events bring together innovators and entrepreneurs from CEOs to students for purposeful collaboration and conversations. \nAttendees come from diverse backgrounds—academia\, industry\, startups\, venture capital\, economic development\, pharma\, biotech\, arts\, and more—united by a shared belief that in order to further an individual organization’s mission we must strengthen connections and enhance collaboration. \nAll are welcome!
URL:https://www.angelinvestorforum.com/wp/event/collaborative-ct-3/
LOCATION:101 college street\, 101 college street\, New Haven\, CT\, 06510
END:VEVENT
BEGIN:VEVENT
DTSTART;TZID=America/New_York:20260609T100000
DTEND;TZID=America/New_York:20260609T100000
DTSTAMP:20260423T140502
CREATED:20250211T141801Z
LAST-MODIFIED:20260116T203043Z
UID:10000214-1780999200-1780999200@www.angelinvestorforum.com
SUMMARY:AIF Investor Meeting
DESCRIPTION:
URL:https://www.angelinvestorforum.com/wp/event/aif-investor-meeting-22/2026-06-09/
LOCATION:Fairfield University Dolan School of Business\, 1073 N Benson Rd\, Fairfield\, CT\, 06824\, United States
ATTACH;FMTTYPE=image/png:https://www.angelinvestorforum.com/wp/wp-content/uploads/2022/07/logo.png
END:VEVENT
BEGIN:VEVENT
DTSTART;TZID=America/New_York:20260624T173000
DTEND;TZID=America/New_York:20260624T200000
DTSTAMP:20260423T140502
CREATED:20260126T214422Z
LAST-MODIFIED:20260126T214422Z
UID:10000282-1782322200-1782331200@www.angelinvestorforum.com
SUMMARY:Westchester: Life Sciences Networking Event
DESCRIPTION:Innovators\, investors\, inventors\, and other dedicated life sciences professionals\, mark your calendars for our monthly life sciences gatherings for 2026! At each gathering\, we will have spotlight presentations from two Westchester-based companies\, which might be alumni of WCBA or residents of BioInc@NYMC\, or completely independent life sciences companies.  Some might be startups and others more established. \nThese events bring the life sciences community together\, so we can get to know each other and the companies operating within our midst\, and spark conversations that yield opportunities to collaborate\, partner\, generate new ideas\, find new hires\, or simply build new connections with like-minded professionals within the County.
URL:https://www.angelinvestorforum.com/wp/event/westchester-life-sciences-networking-event/2026-06-24/
LOCATION:CT
END:VEVENT
BEGIN:VEVENT
DTSTART;TZID=America/New_York:20260714T100000
DTEND;TZID=America/New_York:20260714T100000
DTSTAMP:20260423T140502
CREATED:20250211T141801Z
LAST-MODIFIED:20260116T203043Z
UID:10000215-1784023200-1784023200@www.angelinvestorforum.com
SUMMARY:AIF Investor Meeting
DESCRIPTION:
URL:https://www.angelinvestorforum.com/wp/event/aif-investor-meeting-22/2026-07-14/
LOCATION:Fairfield University Dolan School of Business\, 1073 N Benson Rd\, Fairfield\, CT\, 06824\, United States
ATTACH;FMTTYPE=image/png:https://www.angelinvestorforum.com/wp/wp-content/uploads/2022/07/logo.png
END:VEVENT
BEGIN:VEVENT
DTSTART;TZID=America/New_York:20260716T163000
DTEND;TZID=America/New_York:20260716T183000
DTSTAMP:20260423T140502
CREATED:20260312T200241Z
LAST-MODIFIED:20260312T200538Z
UID:10000305-1784219400-1784226600@www.angelinvestorforum.com
SUMMARY:Collaborative CT
DESCRIPTION:Collaborative CT events bring together innovators and entrepreneurs from CEOs to students for purposeful collaboration and conversations. \nAttendees come from diverse backgrounds—academia\, industry\, startups\, venture capital\, economic development\, pharma\, biotech\, arts\, and more—united by a shared belief that in order to further an individual organization’s mission we must strengthen connections and enhance collaboration. \nAll are welcome!
URL:https://www.angelinvestorforum.com/wp/event/2451/
LOCATION:101 college street\, 101 college street\, New Haven\, CT\, 06510
END:VEVENT
BEGIN:VEVENT
DTSTART;TZID=America/New_York:20260722T173000
DTEND;TZID=America/New_York:20260722T200000
DTSTAMP:20260423T140502
CREATED:20260126T214422Z
LAST-MODIFIED:20260126T214422Z
UID:10000283-1784741400-1784750400@www.angelinvestorforum.com
SUMMARY:Westchester: Life Sciences Networking Event
DESCRIPTION:Innovators\, investors\, inventors\, and other dedicated life sciences professionals\, mark your calendars for our monthly life sciences gatherings for 2026! At each gathering\, we will have spotlight presentations from two Westchester-based companies\, which might be alumni of WCBA or residents of BioInc@NYMC\, or completely independent life sciences companies.  Some might be startups and others more established. \nThese events bring the life sciences community together\, so we can get to know each other and the companies operating within our midst\, and spark conversations that yield opportunities to collaborate\, partner\, generate new ideas\, find new hires\, or simply build new connections with like-minded professionals within the County.
URL:https://www.angelinvestorforum.com/wp/event/westchester-life-sciences-networking-event/2026-07-22/
LOCATION:CT
END:VEVENT
BEGIN:VEVENT
DTSTART;TZID=America/New_York:20260811T100000
DTEND;TZID=America/New_York:20260811T100000
DTSTAMP:20260423T140502
CREATED:20250211T141801Z
LAST-MODIFIED:20260116T203043Z
UID:10000216-1786442400-1786442400@www.angelinvestorforum.com
SUMMARY:AIF Investor Meeting
DESCRIPTION:
URL:https://www.angelinvestorforum.com/wp/event/aif-investor-meeting-22/2026-08-11/
LOCATION:Fairfield University Dolan School of Business\, 1073 N Benson Rd\, Fairfield\, CT\, 06824\, United States
ATTACH;FMTTYPE=image/png:https://www.angelinvestorforum.com/wp/wp-content/uploads/2022/07/logo.png
END:VEVENT
BEGIN:VEVENT
DTSTART;TZID=America/New_York:20260820T163000
DTEND;TZID=America/New_York:20260820T183000
DTSTAMP:20260423T140502
CREATED:20260312T200358Z
LAST-MODIFIED:20260312T200358Z
UID:10000306-1787243400-1787250600@www.angelinvestorforum.com
SUMMARY:Collaborative CT
DESCRIPTION:Collaborative CT events bring together innovators and entrepreneurs from CEOs to students for purposeful collaboration and conversations. \nAttendees come from diverse backgrounds—academia\, industry\, startups\, venture capital\, economic development\, pharma\, biotech\, arts\, and more—united by a shared belief that in order to further an individual organization’s mission we must strengthen connections and enhance collaboration. \nAll are welcome!
URL:https://www.angelinvestorforum.com/wp/event/collaborative-ct-4/
LOCATION:101 college street\, 101 college street\, New Haven\, CT\, 06510
END:VEVENT
BEGIN:VEVENT
DTSTART;TZID=America/New_York:20260826T173000
DTEND;TZID=America/New_York:20260826T200000
DTSTAMP:20260423T140502
CREATED:20260126T214422Z
LAST-MODIFIED:20260126T214422Z
UID:10000284-1787765400-1787774400@www.angelinvestorforum.com
SUMMARY:Westchester: Life Sciences Networking Event
DESCRIPTION:Innovators\, investors\, inventors\, and other dedicated life sciences professionals\, mark your calendars for our monthly life sciences gatherings for 2026! At each gathering\, we will have spotlight presentations from two Westchester-based companies\, which might be alumni of WCBA or residents of BioInc@NYMC\, or completely independent life sciences companies.  Some might be startups and others more established. \nThese events bring the life sciences community together\, so we can get to know each other and the companies operating within our midst\, and spark conversations that yield opportunities to collaborate\, partner\, generate new ideas\, find new hires\, or simply build new connections with like-minded professionals within the County.
URL:https://www.angelinvestorforum.com/wp/event/westchester-life-sciences-networking-event/2026-08-26/
LOCATION:CT
END:VEVENT
BEGIN:VEVENT
DTSTART;TZID=America/New_York:20260908T100000
DTEND;TZID=America/New_York:20260908T100000
DTSTAMP:20260423T140502
CREATED:20250211T141801Z
LAST-MODIFIED:20260116T203043Z
UID:10000217-1788861600-1788861600@www.angelinvestorforum.com
SUMMARY:AIF Investor Meeting
DESCRIPTION:
URL:https://www.angelinvestorforum.com/wp/event/aif-investor-meeting-22/2026-09-08/
LOCATION:Fairfield University Dolan School of Business\, 1073 N Benson Rd\, Fairfield\, CT\, 06824\, United States
ATTACH;FMTTYPE=image/png:https://www.angelinvestorforum.com/wp/wp-content/uploads/2022/07/logo.png
END:VEVENT
BEGIN:VEVENT
DTSTART;TZID=America/New_York:20260923T173000
DTEND;TZID=America/New_York:20260923T200000
DTSTAMP:20260423T140502
CREATED:20260126T214422Z
LAST-MODIFIED:20260126T214422Z
UID:10000285-1790184600-1790193600@www.angelinvestorforum.com
SUMMARY:Westchester: Life Sciences Networking Event
DESCRIPTION:Innovators\, investors\, inventors\, and other dedicated life sciences professionals\, mark your calendars for our monthly life sciences gatherings for 2026! At each gathering\, we will have spotlight presentations from two Westchester-based companies\, which might be alumni of WCBA or residents of BioInc@NYMC\, or completely independent life sciences companies.  Some might be startups and others more established. \nThese events bring the life sciences community together\, so we can get to know each other and the companies operating within our midst\, and spark conversations that yield opportunities to collaborate\, partner\, generate new ideas\, find new hires\, or simply build new connections with like-minded professionals within the County.
URL:https://www.angelinvestorforum.com/wp/event/westchester-life-sciences-networking-event/2026-09-23/
LOCATION:CT
END:VEVENT
BEGIN:VEVENT
DTSTART;TZID=America/New_York:20261013T100000
DTEND;TZID=America/New_York:20261013T100000
DTSTAMP:20260423T140502
CREATED:20250211T141801Z
LAST-MODIFIED:20260116T203043Z
UID:10000218-1791885600-1791885600@www.angelinvestorforum.com
SUMMARY:AIF Investor Meeting
DESCRIPTION:
URL:https://www.angelinvestorforum.com/wp/event/aif-investor-meeting-22/2026-10-13/
LOCATION:Fairfield University Dolan School of Business\, 1073 N Benson Rd\, Fairfield\, CT\, 06824\, United States
ATTACH;FMTTYPE=image/png:https://www.angelinvestorforum.com/wp/wp-content/uploads/2022/07/logo.png
END:VEVENT
BEGIN:VEVENT
DTSTART;TZID=America/New_York:20261028T173000
DTEND;TZID=America/New_York:20261028T200000
DTSTAMP:20260423T140502
CREATED:20260126T214422Z
LAST-MODIFIED:20260126T214422Z
UID:10000286-1793208600-1793217600@www.angelinvestorforum.com
SUMMARY:Westchester: Life Sciences Networking Event
DESCRIPTION:Innovators\, investors\, inventors\, and other dedicated life sciences professionals\, mark your calendars for our monthly life sciences gatherings for 2026! At each gathering\, we will have spotlight presentations from two Westchester-based companies\, which might be alumni of WCBA or residents of BioInc@NYMC\, or completely independent life sciences companies.  Some might be startups and others more established. \nThese events bring the life sciences community together\, so we can get to know each other and the companies operating within our midst\, and spark conversations that yield opportunities to collaborate\, partner\, generate new ideas\, find new hires\, or simply build new connections with like-minded professionals within the County.
URL:https://www.angelinvestorforum.com/wp/event/westchester-life-sciences-networking-event/2026-10-28/
LOCATION:CT
END:VEVENT
BEGIN:VEVENT
DTSTART;TZID=America/New_York:20261110T100000
DTEND;TZID=America/New_York:20261110T100000
DTSTAMP:20260423T140502
CREATED:20250211T141801Z
LAST-MODIFIED:20260116T203043Z
UID:10000219-1794304800-1794304800@www.angelinvestorforum.com
SUMMARY:AIF Investor Meeting
DESCRIPTION:
URL:https://www.angelinvestorforum.com/wp/event/aif-investor-meeting-22/2026-11-10/
LOCATION:Fairfield University Dolan School of Business\, 1073 N Benson Rd\, Fairfield\, CT\, 06824\, United States
ATTACH;FMTTYPE=image/png:https://www.angelinvestorforum.com/wp/wp-content/uploads/2022/07/logo.png
END:VEVENT
BEGIN:VEVENT
DTSTART;TZID=America/New_York:20261125T173000
DTEND;TZID=America/New_York:20261125T200000
DTSTAMP:20260423T140502
CREATED:20260126T214422Z
LAST-MODIFIED:20260126T214422Z
UID:10000287-1795627800-1795636800@www.angelinvestorforum.com
SUMMARY:Westchester: Life Sciences Networking Event
DESCRIPTION:Innovators\, investors\, inventors\, and other dedicated life sciences professionals\, mark your calendars for our monthly life sciences gatherings for 2026! At each gathering\, we will have spotlight presentations from two Westchester-based companies\, which might be alumni of WCBA or residents of BioInc@NYMC\, or completely independent life sciences companies.  Some might be startups and others more established. \nThese events bring the life sciences community together\, so we can get to know each other and the companies operating within our midst\, and spark conversations that yield opportunities to collaborate\, partner\, generate new ideas\, find new hires\, or simply build new connections with like-minded professionals within the County.
URL:https://www.angelinvestorforum.com/wp/event/westchester-life-sciences-networking-event/2026-11-25/
LOCATION:CT
END:VEVENT
BEGIN:VEVENT
DTSTART;TZID=America/New_York:20261208T100000
DTEND;TZID=America/New_York:20261208T100000
DTSTAMP:20260423T140502
CREATED:20250211T141801Z
LAST-MODIFIED:20260116T203043Z
UID:10000220-1796724000-1796724000@www.angelinvestorforum.com
SUMMARY:AIF Investor Meeting
DESCRIPTION:
URL:https://www.angelinvestorforum.com/wp/event/aif-investor-meeting-22/2026-12-08/
LOCATION:Fairfield University Dolan School of Business\, 1073 N Benson Rd\, Fairfield\, CT\, 06824\, United States
ATTACH;FMTTYPE=image/png:https://www.angelinvestorforum.com/wp/wp-content/uploads/2022/07/logo.png
END:VEVENT
BEGIN:VEVENT
DTSTART;TZID=America/New_York:20261223T173000
DTEND;TZID=America/New_York:20261223T200000
DTSTAMP:20260423T140502
CREATED:20260126T214422Z
LAST-MODIFIED:20260126T214422Z
UID:10000288-1798047000-1798056000@www.angelinvestorforum.com
SUMMARY:Westchester: Life Sciences Networking Event
DESCRIPTION:Innovators\, investors\, inventors\, and other dedicated life sciences professionals\, mark your calendars for our monthly life sciences gatherings for 2026! At each gathering\, we will have spotlight presentations from two Westchester-based companies\, which might be alumni of WCBA or residents of BioInc@NYMC\, or completely independent life sciences companies.  Some might be startups and others more established. \nThese events bring the life sciences community together\, so we can get to know each other and the companies operating within our midst\, and spark conversations that yield opportunities to collaborate\, partner\, generate new ideas\, find new hires\, or simply build new connections with like-minded professionals within the County.
URL:https://www.angelinvestorforum.com/wp/event/westchester-life-sciences-networking-event/2026-12-23/
LOCATION:CT
END:VEVENT
END:VCALENDAR