BEGIN:VCALENDAR
VERSION:2.0
PRODID:-// - ECPv6.15.14//NONSGML v1.0//EN
CALSCALE:GREGORIAN
METHOD:PUBLISH
X-ORIGINAL-URL:https://www.angelinvestorforum.com/wp
X-WR-CALDESC:Events for 
REFRESH-INTERVAL;VALUE=DURATION:PT1H
X-Robots-Tag:noindex
X-PUBLISHED-TTL:PT1H
BEGIN:VTIMEZONE
TZID:America/New_York
BEGIN:DAYLIGHT
TZOFFSETFROM:-0500
TZOFFSETTO:-0400
TZNAME:EDT
DTSTART:20250309T070000
END:DAYLIGHT
BEGIN:STANDARD
TZOFFSETFROM:-0400
TZOFFSETTO:-0500
TZNAME:EST
DTSTART:20251102T060000
END:STANDARD
BEGIN:DAYLIGHT
TZOFFSETFROM:-0500
TZOFFSETTO:-0400
TZNAME:EDT
DTSTART:20260308T070000
END:DAYLIGHT
BEGIN:STANDARD
TZOFFSETFROM:-0400
TZOFFSETTO:-0500
TZNAME:EST
DTSTART:20261101T060000
END:STANDARD
BEGIN:DAYLIGHT
TZOFFSETFROM:-0500
TZOFFSETTO:-0400
TZNAME:EDT
DTSTART:20270314T070000
END:DAYLIGHT
BEGIN:STANDARD
TZOFFSETFROM:-0400
TZOFFSETTO:-0500
TZNAME:EST
DTSTART:20271107T060000
END:STANDARD
END:VTIMEZONE
BEGIN:VEVENT
DTSTART;TZID=America/New_York:20260506T173000
DTEND;TZID=America/New_York:20260506T203000
DTSTAMP:20260423T123834
CREATED:20260422T201705Z
LAST-MODIFIED:20260422T201705Z
UID:10000314-1778088600-1778099400@www.angelinvestorforum.com
SUMMARY:CT SBDC AI Pitch Competition
DESCRIPTION:CTSBDC is hosting an AI Pitch Competition. We’re looking for practical\, high-impact ideas for how\, with access to expert resources\, AI can take businesses to the next level. Join us to watch as Connecticut’s small business owners\, and aspiring innovators bring their ideas to the stage\, and compete to win non-cash prizes that can take their ideas to the next level.
URL:https://www.angelinvestorforum.com/wp/event/ct-sbdc-ai-pitch-competition/
LOCATION:Westport Country Playhouse\, 25 Powers Court\, Westport\, CT\, 06880
END:VEVENT
END:VCALENDAR